



BEGIN:VCALENDAR
VERSION:2.0
PRODID:-//Museo de Ciencias Naturales - ECPv6.15.20//NONSGML v1.0//EN
CALSCALE:GREGORIAN
METHOD:PUBLISH
X-WR-CALNAME:Museo de Ciencias Naturales
X-ORIGINAL-URL:https://www.macnconicet.gob.ar
X-WR-CALDESC:Eventos para Museo de Ciencias Naturales
REFRESH-INTERVAL;VALUE=DURATION:PT1H
X-Robots-Tag:noindex
X-PUBLISHED-TTL:PT1H
BEGIN:VTIMEZONE
TZID:America/Sao_Paulo
BEGIN:STANDARD
TZOFFSETFROM:-0300
TZOFFSETTO:-0300
TZNAME:-03
DTSTART:20210101T000000
END:STANDARD
END:VTIMEZONE
BEGIN:VEVENT
DTSTART;TZID=America/Sao_Paulo:20221020T050000
DTEND;TZID=America/Sao_Paulo:20221118T140000
DTSTAMP:20260424T044336
CREATED:20221021T003817Z
LAST-MODIFIED:20221021T003817Z
UID:8959-1666242000-1668780000@www.macnconicet.gob.ar
SUMMARY:CURSO DE DIVULGACIÓN MACN-BOTÁNICA-PLANTAS VASCULARES
DESCRIPTION:CURSO DE DIVULGACIÓN MACN-BOTÁNICA-PLANTAS VASCULARES\nLAS FORMAS DE LAS PLANTAS.\nRedescubriendo su morfología externa y su interior microscópico\nDel 9 al 18 de noviembre\nInscripción abierta\n\nDescargar info completa del curso \n  \n¿Cómo son las plantas por fuera? ¿Qué características nos permiten identificar especies? ¿Cómo son las plantas por dentro? ¿Cuáles son los tejidos vegetales\, sus funciones y ubicación? ¿Se pueden relacionar caracteres con funciones en una planta? ¿Cuáles características juegan un rol importante en los ecosistemas? \n✻ Objetivos:\nConocer la morfología externa y interna de las plantas\nIdentificar caracteres útiles para el reconocimiento de especies y funciones\nAprender a realizar trabajos de campo y técnicas de laboratorio en plantas \n✻ Destinatarios: profesionales\, técnicos\, docentes y estudiantes del área de las Ciencias Biológicas\, Ciencias Agrarias\, Ciencias Ambientales\, Jardinería\, Diseño urbano\, Planificación\, Diseño del Paisaje y público general.  \nCupo limitado \nActividades:\n9/11-Encuentro 1 (virtual): Presentación del curso\, charla sobre la morfología interna de las plantas y principales técnicas para observar tejidos vegetales al microscopio. \n11/11-Encuentro 2 (presencial): actividades de laboratorio de morfología interna de plantas (División Plantas Vasculares): Manipulación de lupa y microscopio\, preparación de muestras histológicas\, observación. Fotografías para subir a la plataforma virtual. \n16/11-Encuentro 3 (virtual): charla sobre la morfología externa de las plantas. Actividades con devolución en plataforma virtual y laboratorio extendido. Cómo hacer un herbario. \n18/11-Encuentro 4 (presencial): actividades de campo de morfología externa de plantas (Jardín Nativo): reconocimiento de morfología de plantas\, de especies y de caracteres funcionales. Fotografías para subir a la plataforma virtual. Cierre del curso. \nDuración:\n1:30 hs cada encuentro. Horario: 15 a 16:30 hs. Salvo el encuentro 2 donde el grupo se divide en dos subgrupos: uno con un horario de 14:00 a 15:30 hs\, y otro de 15:30 a 17 hs. \nLugares presenciales para la actividad:\nDivisión Plantas Vasculares (Área Botánica) y Jardín Didáctico de Especies Nativas (MACN). \nEncargados de la actividad:\nInvestigadores del MACN\nDr. Diego Gutiérrez (investigador independiente)\nDra. Agustina Yañez (investigadora asistente)\nBecarios\nDr. Juan Facundo Rodríguez-Cravero (becario posdoctoral)\nLic. Vanina Salgado (becaria doctoral)\nLic. Mónica Stampacchio (profesional principal)\nLic. Eugenia Celeste Alvarenga (profesional adjunta)  \nCosto de inscripción:\nAR$ 6.000.- (seis mil pesos argentinos) \nAcreditación:\nSe extenderán certificados de asistencia y/o aprobación avalado por el MACN. \n✻ Formulario de pre-inscripción:\nhttps://forms.gle/TYtJhiX4iAHUr6jS7 \nConsultas:\neducursos.macn@gmail.com \nAl confirmarse la vacante recibirá los datos para la inscripción e información para el pago. \n	\n		Compartir esta página en redes sociales\n		FacebookTwitterLinkedIn
URL:https://www.macnconicet.gob.ar/event/curso-de-divulgacion-macn-botanica-plantas-vasculares/
LOCATION:Museo Argentino de Ciencias Naturales “Bernardino Rivadavia”\, Av. Ángel Gallardo 490\, Ciudad Autonoma de Buenos Aires\, Buenos Aires\, 1605\, Argentina
CATEGORIES:Cursos,Cursos de divulgación científica y formación profesional
ATTACH;FMTTYPE=image/jpeg:https://www.macnconicet.gob.ar/wp-content/uploads/las-formas-de-las-plantas-curso-03.jpg
END:VEVENT
END:VCALENDAR