



BEGIN:VCALENDAR
VERSION:2.0
PRODID:-//Museo de Ciencias Naturales - ECPv6.15.20//NONSGML v1.0//EN
CALSCALE:GREGORIAN
METHOD:PUBLISH
X-ORIGINAL-URL:https://www.macnconicet.gob.ar
X-WR-CALDESC:Eventos para Museo de Ciencias Naturales
REFRESH-INTERVAL;VALUE=DURATION:PT1H
X-Robots-Tag:noindex
X-PUBLISHED-TTL:PT1H
BEGIN:VTIMEZONE
TZID:America/Sao_Paulo
BEGIN:STANDARD
TZOFFSETFROM:-0300
TZOFFSETTO:-0300
TZNAME:-03
DTSTART:20220101T000000
END:STANDARD
END:VTIMEZONE
BEGIN:VEVENT
DTSTART;TZID=America/Sao_Paulo:20230221T050000
DTEND;TZID=America/Sao_Paulo:20230801T140000
DTSTAMP:20260424T000450
CREATED:20220304T171942Z
LAST-MODIFIED:20230608T171727Z
UID:8383-1676955600-1690898400@www.macnconicet.gob.ar
SUMMARY:Visitas escolares
DESCRIPTION:IMPORTANTE\nVISITAS GRUPOS ESCOLARES\nA partir del 1º de agosto el Museo modificará el sistema de reserva para visitas guiadas escolares debido a una transición en el servicio on line. \nEl nuevo  mecanismo de reservas para las visitas escolares con docentes guía será publicado en los primeros días del mes de julio. \nLos cambios serán en beneficio de la comunidad educativa.\nEsperamos que sepan comprender y disculpen las molestias.  \n\n	\n		Compartir esta página en redes sociales\n		FacebookTwitterLinkedIn
URL:https://www.macnconicet.gob.ar/event/visitas-escolares/
LOCATION:Museo Argentino de Ciencias Naturales “Bernardino Rivadavia”\, Av. Ángel Gallardo 490\, Ciudad Autonoma de Buenos Aires\, Buenos Aires\, 1605\, Argentina
CATEGORIES:Visitas guiadas
END:VEVENT
BEGIN:VEVENT
DTSTART;TZID=America/Sao_Paulo:20230228T050000
DTEND;TZID=America/Sao_Paulo:20230422T140000
DTSTAMP:20260424T000450
CREATED:20230228T143243Z
LAST-MODIFIED:20230324T134342Z
UID:9235-1677560400-1682172000@www.macnconicet.gob.ar
SUMMARY:
DESCRIPTION:Diseño\, construcción y mantenimiento de estanques naturales.\n\n\n\n\nLos estanques de diseño natural recrean ecosistemas acuáticos naturales\, conformando espacios en los cuales pueden apreciarse no sólo las formas y colores de diversas plantas acuáticas\, palustres y terrestres\, insectos y otros invertebra- dos\, anfibios\, peces y aves autóctonas\, sino también descubrir las interacciones que tienen lugar entre estas especies. \nLa presencia de estanques en ámbitos públicos y privados\, en entornos urbanos\, suburbanos o rurales\, favorece el contacto con la naturaleza y contribuye\, de esta manera\, a reconocer la importancia de los humedales naturales y su preservación. Por otra parte\, desde el punto de vista estético\, estos elementos tienen el potencial de aportar singulari- dad y belleza al entorno construido. \nDurante el curso “Diseño\, construcción y mantenimiento de estanques naturales”\, abordaremos diversos contenidos que permitirán\, desde un enfoque práctico y teórico\, idear\, crear y mantener un estanque equilibrado e integrado con el entorno.\nEstos contenidos incluyen algunas herramientas para el diseño y la construcción de estanques naturales\, la calidad del agua\, las plantas y animales del estanque\, entre otros. \n\n\n\n\n⦿ Docentes: Dr. Gabriel Basílico y Dra. Laura de Cabo (Investigadora Independiente Conicet). \n⦿ Destinatarios: profesionales\, técnicos\, docentes y estudiantes del área de las Ciencias Biológicas\, Ciencias Agrarias\, Ciencias Ambientales\, Jardinería\, Diseño urbano\, Arquitectos\, Agrónomos\, Planificación y Diseño del Paisaje\, y Público General. \n\n\n\n\n\n⦿ Modalidad: Cuatro (4) clases virtuales teóricas de 2 horas cada una. Dos (2) clases presenciales prácticas de 3 horas cada una\, en el Jardín Didáctico de Especies Nativas (JDEN) del MACN.Jueves 13 / Viernes 14: teóricas virtuales.19 a 21 hs. Sábado 15: Práctica presencial. 10 a 13 hs.\nJueves 20 / Viernes 21: teóricas virtuales.19 a 21 hs. Sábado 22: Práctica presencial. 10 a 13 hs.Las clases presenciales serán grabadas y compartidas.\n\n⦿ Costo del curso completo: AR $ 15.000.- (Quince mil pesos argentinos) \n\n\n\n\n⦿ Acreditación: Se extenderán certificado de asistencia y/o aprobación avalado por el MACN. \n⦿ Inscripción:\nhttps://docs.google.com/forms/d/e/1FAIpQLSelIvYdMXF5DJqdTdkgtAicteNzqtSSGaY9bqigwQHeCuvZ1A/viewform \n\n\n\n\n.\n.\n. \n \n\n> Descargar PDF con información completa del curso. \n\n\n\n\n\n\n\n\n\n\n	\n		Compartir esta página en redes sociales\n		FacebookTwitterLinkedIn
URL:https://www.macnconicet.gob.ar/event/9235/
LOCATION:Museo Argentino de Ciencias Naturales “Bernardino Rivadavia”\, Av. Ángel Gallardo 490\, Ciudad Autonoma de Buenos Aires\, Buenos Aires\, 1605\, Argentina
CATEGORIES:Cursos,Cursos de divulgación científica y formación profesional
ATTACH;FMTTYPE=image/jpeg:https://www.macnconicet.gob.ar/wp-content/uploads/estanques-curso-2023_flyer-evento-web-scaled.jpg
END:VEVENT
BEGIN:VEVENT
DTSTART;TZID=America/Sao_Paulo:20230310T050000
DTEND;TZID=America/Sao_Paulo:20230321T140000
DTSTAMP:20260424T000450
CREATED:20230301T185558Z
LAST-MODIFIED:20230310T172402Z
UID:9246-1678424400-1679407200@www.macnconicet.gob.ar
SUMMARY:
DESCRIPTION:Charla y taller\nPrograma de divulgación científica-MACN\nBioscopio\n  \nCelebramos el día de la mujer con una charla y taller sobre Paleontología\, brindado por Magalí Cárdenas- técnica del área de Paleontología del MACN. Queremos sembrar vocaciones para la ciencia entre las mujeres\, en especial en las niñas y jóvenes.  \nQue puedan brindar a la ciencia y a todas las profesiones asociadas\, su mirada particular y propia. \n¿Cómo realiza su labor? ¿Cómo se gestó su vocación?\n¿De qué manera lleva a cabo sus tareas en el día a día una mujer que trabaja en Paleontología?\nSon algunas de las preguntas que Magalí abordará durante está charla-taller. \nPodrás compartir la experiencia de trabajar sobre un bochón real.\nTe esperamos\, celebremos entre todxs.\n.\n.\n.\nEl evento programado para el sábado 11 de marzo\nserá realizado el próximo Sábado 18 de marzo\nDe 15 a 17 hs\nActividad continua destinada a las infancias.\nNos encontramos en la Sala de Geología ubicada en PB. \n“La paleontología es cosa de mujeres”\nPor la Téc. en paleontología Magalí Cárdenas\n.\n.\n.\nSe accede con la entrada al Museo\, sin reserva\, por orden de llegada. Cupo limitado.\n> más info: @macn.oficial \n  \n#diadelamujer#8M23#8M#8Mar \n  \n	\n		Compartir esta página en redes sociales\n		FacebookTwitterLinkedIn
URL:https://www.macnconicet.gob.ar/event/9246/
CATEGORIES:Charlas,Taller
ATTACH;FMTTYPE=image/jpeg:https://www.macnconicet.gob.ar/wp-content/uploads/bioscopio-flyer-charlas-2023-01-1.jpg
END:VEVENT
END:VCALENDAR