



BEGIN:VCALENDAR
VERSION:2.0
PRODID:-//Museo de Ciencias Naturales - ECPv6.15.20//NONSGML v1.0//EN
CALSCALE:GREGORIAN
METHOD:PUBLISH
X-WR-CALNAME:Museo de Ciencias Naturales
X-ORIGINAL-URL:https://www.macnconicet.gob.ar
X-WR-CALDESC:Eventos para Museo de Ciencias Naturales
REFRESH-INTERVAL;VALUE=DURATION:PT1H
X-Robots-Tag:noindex
X-PUBLISHED-TTL:PT1H
BEGIN:VTIMEZONE
TZID:America/Sao_Paulo
BEGIN:STANDARD
TZOFFSETFROM:-0300
TZOFFSETTO:-0300
TZNAME:-03
DTSTART:20220101T000000
END:STANDARD
END:VTIMEZONE
BEGIN:VEVENT
DTSTART;TZID=America/Sao_Paulo:20230801T050000
DTEND;TZID=America/Sao_Paulo:20231231T140000
DTSTAMP:20260423T081113
CREATED:20221215T224118Z
LAST-MODIFIED:20230801T202434Z
UID:9056-1690866000-1704031200@www.macnconicet.gob.ar
SUMMARY:Laberintos invisibles
DESCRIPTION:Laberintos invisibles\nHistoria natural de las arañas y sus telas\n1er piso\, MACN\nSala Florentino Ameghino\n  \nEl mundo de las arañas tejedoras es táctil\, vibratorio\, químico… apenas visual. Construyen sus delicadas telas guiadas por el tacto y el cálculo; jamás las verán. Los insectos son sonidos\, vibraciones… hasta que tocan su tela. \nA través del recorrido de la muestra se revelarán los misterios de las tejedoras y los intrincados detalles de sus trampas mortales: cómo anclan los hilos para sostener sus telas extendidas\, cómo funcionan los hilos que pegan a sus presas\, y el remoto origen evolutivo de sus telas. \nModelos gigantes de arañas y sus telas\, fotografías microscópicas inéditas de hebras de seda y reproducciones de telas a gran escala dan a la muestra un tinte fantástico\, y nos permiten asomarnos a la diversidad de las arañas\, formas y funciones de sus telas y su historia evolutiva.  \nLa muestra celebra la interfaz entre la ciencia y el arte\, con obras de Tomás Saraceno co-creadas por arañas. Diseños hipnóticos del que solamente vemos su brillo en la oscuridad… a la vez obra de arte milagro de la física y trampa efímera. \n Artesana de la trama del mundo\, la araña es ama del destino; lo teje y lo percibe. Elabora el hilo del tiempo entre frágiles y cautivantes laberintos invisibles\, cuyos centros atrapan a la eternidad. \n	\n		Compartir esta página en redes sociales\n		FacebookTwitterLinkedIn
URL:https://www.macnconicet.gob.ar/event/9056/
LOCATION:Museo Argentino de Ciencias Naturales “Bernardino Rivadavia”\, Av. Ángel Gallardo 490\, Ciudad Autonoma de Buenos Aires\, Buenos Aires\, 1605\, Argentina
CATEGORIES:Muestra
ATTACH;FMTTYPE=image/jpeg:https://www.macnconicet.gob.ar/wp-content/uploads/paraweb_Mesa-de-trabajo-1-copia.jpg
END:VEVENT
BEGIN:VEVENT
DTSTART;TZID=America/Sao_Paulo:20230801T080000
DTEND;TZID=America/Sao_Paulo:20231231T170000
DTSTAMP:20260423T081113
CREATED:20230801T202029Z
LAST-MODIFIED:20230905T175529Z
UID:9503-1690876800-1704042000@www.macnconicet.gob.ar
SUMMARY:
DESCRIPTION:Las escuelas públicas podrán solicitar una visita gratuita.\n\n\nPara ello deberán ingresar a nuestro sistema de reserva online y realizar una reserva consignando los datos correspondientes.\nSe aceptará una sola reserva por docente y por grado\, con un mínimo de 10 chicos y un máximo de 40; con dos docentes acompañantes como máximo. El resto de los acompañantes abonan la entrada por transferencia\, y por adelantado.\nEl día de la visita deberán presentar en forma impresa la lista de alumnos firmada y sellada por la dirección de la escuela; este documento es muy importante porque acredita la pertenencia a una escuela pública. La escuela que no lo presente no podrá ingresar\, aunque tenga la reserva confirmada.\n.\n.\n. \n> Más info:\nhttps://www.macnconicet.gob.ar/visitas-2-2/grupos-escolares/ \n	\n		Compartir esta página en redes sociales\n		FacebookTwitterLinkedIn
URL:https://www.macnconicet.gob.ar/event/9503/
LOCATION:Museo Argentino de Ciencias Naturales “Bernardino Rivadavia”\, Av. Ángel Gallardo 490\, Ciudad Autonoma de Buenos Aires\, Buenos Aires\, 1605\, Argentina
CATEGORIES:Visitas guiadas
ATTACH;FMTTYPE=image/jpeg:https://www.macnconicet.gob.ar/wp-content/uploads/visitas-escolares-02.jpg
END:VEVENT
BEGIN:VEVENT
DTSTART;TZID=America/Sao_Paulo:20230811T080000
DTEND;TZID=America/Sao_Paulo:20231231T170000
DTSTAMP:20260423T081113
CREATED:20230811T131652Z
LAST-MODIFIED:20230922T171940Z
UID:9528-1691740800-1704042000@www.macnconicet.gob.ar
SUMMARY:
DESCRIPTION:Informamos a toda la Comunidad que desde el día de la fecha están HABILITADOS nuestros ASCENSORES\, EL MUSEO CUENTA CON ACCESO OARA PERSONAS CON CAPACIDADES DIFERENTES.\n	\n		Compartir esta página en redes sociales\n		FacebookTwitterLinkedIn
URL:https://www.macnconicet.gob.ar/event/9528/
LOCATION:Museo Argentino de Ciencias Naturales “Bernardino Rivadavia”\, Av. Ángel Gallardo 490\, Ciudad Autonoma de Buenos Aires\, Buenos Aires\, 1605\, Argentina
ATTACH;FMTTYPE=image/jpeg:https://www.macnconicet.gob.ar/wp-content/uploads/ascensor-1034x1559_flyer-evento-web-copia.jpg
END:VEVENT
BEGIN:VEVENT
DTSTART;TZID=America/Sao_Paulo:20230905T080000
DTEND;TZID=America/Sao_Paulo:20231231T170000
DTSTAMP:20260423T081113
CREATED:20230905T185214Z
LAST-MODIFIED:20230905T185214Z
UID:9647-1693900800-1704042000@www.macnconicet.gob.ar
SUMMARY:Apertura MACN
DESCRIPTION:Visitas público general \n\n	\n		Compartir esta página en redes sociales\n		FacebookTwitterLinkedIn
URL:https://www.macnconicet.gob.ar/event/apertura-macn/
LOCATION:Museo Argentino de Ciencias Naturales “Bernardino Rivadavia”\, Av. Ángel Gallardo 490\, Ciudad Autonoma de Buenos Aires\, Buenos Aires\, 1605\, Argentina
ATTACH;FMTTYPE=image/jpeg:https://www.macnconicet.gob.ar/wp-content/uploads/apertura-03.jpg
END:VEVENT
BEGIN:VEVENT
DTSTART;TZID=America/Sao_Paulo:20231025T080000
DTEND;TZID=America/Sao_Paulo:20231105T170000
DTSTAMP:20260423T081113
CREATED:20231025T172908Z
LAST-MODIFIED:20231101T223348Z
UID:9680-1698220800-1699203600@www.macnconicet.gob.ar
SUMMARY:
DESCRIPTION:Noche de Brujas en el Museo – 2023\n“Ciencia que no es magia”.\n…………………………………… \nSábado 4 de noviembre\nTarde: De 19.30 hs a 21.30 hs\nNoche: De 22.00 hs a 00 hs\nEntradas anticipadas únicamente en la boletería del Museo\n(Todos los días de 14 a 19 hs desde el 25 de octubre)\nValor: $ 800.- por persona\, menores de 6 (inclusive) no abonan.\nPodrán ingresar un máximo de 2 (dos) menores de 6\, por cada entrada. \n⚠️ Entrada gratuita para: Ex Combatientes de Malvinas\, personas con CUD\, plan social\, jubilados y jubiladas que perciban la mínima. (Para retirar sus entradas en boletería deben presentar DNI junto a la documentación que lo acredite).\n#nochedebrujas #salidasbuenosaires #museos #halloween\npara más info> @macn.oficial \n  \n  \nCiencia que no es magia\n¿Recorriste alguna vez el Museo de Noche? \nVení disfrazado y conocé los rincones más tenebrosos del Museo.\nUna fiesta para romper con los mitos y supersticiones a través de la ciencia. \n  \nActividades \nRincón de arte Simball- Con la participación del Simball-Dino- PB-Sala de Tiburones\nMaquilladoras- “Caras de terror”- 1er Piso-Sala de de Aves.\nActividades de expresión- “Animales de la Noche” 1er Piso-Sala Mirada Infinita\nDesfile de disfraces: ¿Ciencia o magia?  Primer turno: 20.30 hs. –Segundo turno: 23.00 hs\nPB-Sala de Paleontología\nRecorrido por el Cementerio de los Animales Extintos- Jardín del acceso principal.\nDescubrí los puntos fotográficos más desopilantes: ¡No te pierdas ninguno!\nLas Brujas Científicas\, Las lloronas\,  Sombreros voladores\, El jardín de los Zapallos\, Cementerio de ilustres del Museo\, El pasillo de las calaveras\, El gabinete de los naturalistas perdidos\, la momia\, el extraterrestre y mucho más.\n\n\nMesas de Terror \n• ¡Arañas!  Primer Piso- Sala de Arañas.\n• Los Mitos de las Serpientes.  Primer piso-Sala de Anfibios y reptiles.\n• Fantasmas del pasado-Paleontología Argentina. Planta Baja-Sala Un Millón de Años Atrás. \nAdemás\nParticipación de las brujas de Boedo.\nActividad del Arenero: en búsqueda del tesoro perdido. \nSalón audiovisual.\n20.00 hs. – El mundo de las arañas – Charla a cargo del Dr. Ivan Magalhaes.\n20.45 a 21.30 hs. – Cortos de Terror para compartir en familia.\n22.30 hs. -Monstruos prehistóricos – Charla a cargo del Dr. Ezequiel Vera.\n23.15 a 24.00 hs. – Cortos de Terror para compartir en familia. \n  \n> Descargar programa completo aquí \n	\n		Compartir esta página en redes sociales\n		FacebookTwitterLinkedIn
URL:https://www.macnconicet.gob.ar/event/9680/
ATTACH;FMTTYPE=image/jpeg:https://www.macnconicet.gob.ar/wp-content/uploads/web-noche-brujas-2023-02.jpg
END:VEVENT
BEGIN:VEVENT
DTSTART;TZID=America/Sao_Paulo:20231030T080000
DTEND;TZID=America/Sao_Paulo:20231104T170000
DTSTAMP:20260423T081113
CREATED:20231031T011949Z
LAST-MODIFIED:20231101T223203Z
UID:9692-1698652800-1699117200@www.macnconicet.gob.ar
SUMMARY:
DESCRIPTION:Programa de “La Noche de la Ciencia Argentina”\nEntrada libre y gratuita\nHorario de 19 a 24 horas.\n\nProgramación de Actividades\nAudiovisual-PB \n⏱️ 20.00 hs. – Proyección del documental El Tiempo de la Arañas– Dirección de Maximiliano Laina.\nAl finalizar la película se realizará un conversatorio con el realizador y Patricia Trenti\, Ivan Magalhaes y Martín Ramírez\, creadores de la muestra Laberintos invisibles: Historia natural de las arañas y sus telas\, dialogando sobre el documental\, las exhibiciones y la historia natural de las arañas y sus telas.\n⏱️ 21.00 hs. –  Proyección del documental El Tiempo de la Arañas– Dirección de Maximiliano Laina. \n\nMesas científicas\nPlanta baja\n* Invasiones Biológicas–  Invertebrados Marinos.  Sala Misterios del Mar\n* Descubrí el fascinante mundo de los invertebrados marinos. Invertebrados Marinos-  Sala Misterios del Mar.\n* Los protistas: un mundo microscópico. Invertebrados- Sala de Moluscos\n* Paleontología\, detectives del pasado. Paleontología- Sala de Paleontología\n* Nuestros suelos: conocerlos y cuidarlos. Ecología- Sala de Tiburones\n* Habitantes de los humedales. Limnología. 1 er. Piso – Sala de Anfibios y Reptiles.\n \nPrimer piso\n* Colecciones como el corazón de los museos: ¿Qué son? ¿Por qué son importantes? Ornitología – Sala Laberintos Invisibles.\n* Más allá de la playa: los mamíferos del Mar Argentino. Vertebrados-Sala de Mamíferos actuales.\n* De charco en charco: conociendo las increíbles ranas de Argentina. Limnología. Sala de Anfibios y Reptiles. \n\nRecorridos 3 D- Sala Mirada infinita\nRincón de realidad aumentada- Sala Mirada infinita \n  \nDescargar el programa\n>Actividades programadas. \n	\n		Compartir esta página en redes sociales\n		FacebookTwitterLinkedIn
URL:https://www.macnconicet.gob.ar/event/9692/
ATTACH;FMTTYPE=image/jpeg:https://www.macnconicet.gob.ar/wp-content/uploads/web-nochedelaciencia.jpg
END:VEVENT
END:VCALENDAR