



BEGIN:VCALENDAR
VERSION:2.0
PRODID:-//Museo de Ciencias Naturales - ECPv6.15.20//NONSGML v1.0//EN
CALSCALE:GREGORIAN
METHOD:PUBLISH
X-WR-CALNAME:Museo de Ciencias Naturales
X-ORIGINAL-URL:https://www.macnconicet.gob.ar
X-WR-CALDESC:Eventos para Museo de Ciencias Naturales
REFRESH-INTERVAL;VALUE=DURATION:PT1H
X-Robots-Tag:noindex
X-PUBLISHED-TTL:PT1H
BEGIN:VTIMEZONE
TZID:America/Sao_Paulo
BEGIN:STANDARD
TZOFFSETFROM:-0300
TZOFFSETTO:-0300
TZNAME:-03
DTSTART:20230101T000000
END:STANDARD
END:VTIMEZONE
BEGIN:VEVENT
DTSTART;TZID=America/Sao_Paulo:20241111T080000
DTEND;TZID=America/Sao_Paulo:20241115T170000
DTSTAMP:20260420T045857
CREATED:20240819T152815Z
LAST-MODIFIED:20241010T231953Z
UID:10758-1731312000-1731690000@www.macnconicet.gob.ar
SUMMARY:1er Congreso Argentino de Conservación de Colecciones Científicas
DESCRIPTION:1er Congreso Argentino de Conservación de Colecciones Científicas\n \nDel 11 al 15 de noviembre en el Museo Argentino de Ciencias Naturales\nCon el fin de articular la teoría y la práctica aplicada a los conocimientos referentes a la gestión\, manejo y conservación de colecciones de carácter científico\, el Museo Argentino de Ciencias Naturales será sede del 1er Congreso Argentino de Conservación de Colecciones Científicas\,a desarrollarse del 11 al 15 de noviembre en Buenos Aires.\nEl evento es organizado de forma conjunta con el Museo Etnográfico “Juan B. Ambrosetti”\, las facultades de Filosofía y Letras y de Farmacia y Bioquímica de la Universidad de Buenos Aires (UBA)\, el Museo de Farmacobotánica “Juan A. Domínguez”\, el Museo de La Plata (Universidad Nacional de La Plata)\, la Red de Museos UBA y el Muséum National d’Histoire Naturelle de Francia. Está destinado a trabajadoras y trabajadores de museos y responsables del manejo de colecciones dentro del ámbito público y privado\, e invita a reflexionar sobre las prácticas actuales para el abordaje del patrimonio científico. \nDurante los cuatro días\, se ofrecerán además una serie de actividades gratuitas para los asistentes y disertantes. Podrán inscribirse a talleres y visitar museos y colecciones a fin de reflexionar sobre las prácticas habituales de conservación. \nLa inscripción estará abierta a partir del 1ero de septiembre y la recepción de resúmenes será hasta el día 15 inclusive.Para acceder a la primera circular con toda la información sobre aranceles y pautas para el envío de resúmenes\, haga clic en este enlace.\nPodrán conocer todas las novedades en las redes de las instituciones organizadoras y en nuestra web.Para más información o consultas\, pueden escribir al mail conservacionmacn@gmail.com \n  \n  \n	\n		Compartir esta página en redes sociales\n		FacebookTwitterLinkedIn
URL:https://www.macnconicet.gob.ar/event/10758/
CATEGORIES:Cursos de divulgación científica y formación profesional
ATTACH;FMTTYPE=image/jpeg:https://www.macnconicet.gob.ar/wp-content/uploads/congreso-macn.jpg
END:VEVENT
BEGIN:VEVENT
DTSTART;TZID=America/Sao_Paulo:20241109T000000
DTEND;TZID=America/Sao_Paulo:20241109T235959
DTSTAMP:20260420T045857
CREATED:20241107T223049Z
LAST-MODIFIED:20241107T223349Z
UID:11892-1731110400-1731196799@www.macnconicet.gob.ar
SUMMARY:La Noche de los Museos
DESCRIPTION:La Noche de los Museos en el MACN \n\n\n\nEste sábado de 19 a 00h\, el Museo Argentino de Ciencias Naturales “Bernardino Rivadavia” (MACN-CONICET) formará parte de la agenda de La Noche de los Museos 2024. \n\n\n\nAl recorrido habitual por sus salas se le sumarán 8 mesas científicas a cargo de 5 laboratorios del Museo\, a partir de las cuales podrán conocer mucho más sobre las tareas de investigación que se llevan a cabo durante todo el año. \n\n\n\nLas propuestas son: •⁠ ⁠”Las adaptaciones de las plantas”\, del Laboratorio de Nutrición Vegetal y Micorrizas\, Área Ecología; •⁠ ⁠”Ni tan malos ni tan feos: increíbles anfibios y reptiles de Argentina”\, de la División Herpetología; •⁠ ⁠”Derrumbando mitos y preconceptos: el verdadero y fascinante mundo de los arácnidos”\, de la División Aracnología; •⁠ ⁠”Detectives de microplásticos”\, de la División Limnología y •⁠ ⁠”Explorando el pasado”\, del Área Paleontología. \n\n\n\nEntrada libre y gratuita\, con aforo limitado. \n\n\n\n¡Los esperamos! \n	\n		Compartir esta página en redes sociales\n		FacebookTwitterLinkedIn
URL:https://www.macnconicet.gob.ar/event/la-noche-de-los-museos/
CATEGORIES:eventos,Muestra
ATTACH;FMTTYPE=image/jpeg:https://www.macnconicet.gob.ar/wp-content/uploads/LNDLM24_post-y-story-editbale-02-scaled.jpg
END:VEVENT
END:VCALENDAR