



BEGIN:VCALENDAR
VERSION:2.0
PRODID:-//Museo de Ciencias Naturales - ECPv6.15.20//NONSGML v1.0//EN
CALSCALE:GREGORIAN
METHOD:PUBLISH
X-WR-CALNAME:Museo de Ciencias Naturales
X-ORIGINAL-URL:https://www.macnconicet.gob.ar
X-WR-CALDESC:Eventos para Museo de Ciencias Naturales
REFRESH-INTERVAL;VALUE=DURATION:PT1H
X-Robots-Tag:noindex
X-PUBLISHED-TTL:PT1H
BEGIN:VTIMEZONE
TZID:America/Sao_Paulo
BEGIN:STANDARD
TZOFFSETFROM:-0300
TZOFFSETTO:-0300
TZNAME:-03
DTSTART:20230101T000000
END:STANDARD
END:VTIMEZONE
BEGIN:VEVENT
DTSTART;TZID=America/Sao_Paulo:20241201T140000
DTEND;TZID=America/Sao_Paulo:20250331T190000
DTSTAMP:20260419T185727
CREATED:20241206T190653Z
LAST-MODIFIED:20241211T150602Z
UID:11962-1733061600-1743447600@www.macnconicet.gob.ar
SUMMARY:Desde este mes\, nuevo horario de verano en el MACN
DESCRIPTION:Desde diciembre de 2024\, el Museo Argentino de Ciencias Naturales abrirá sus puertas de martes a domingo de 14 a 19hs.  \n\n\n\n \n\n\n\n \n\n\n\nEste horario se mantendrá hasta el 31 de marzo de 2025. \n\n\n\nSeguí todas las novedades del Museo en nuestras redes sociales: buscanos como @macn.oficial en Instagram y como @Museo Argentino de Ciencias Naturales “Bernardino Rivadavia en Facebook. \n\n\n\n¡Te esperamos para recorrer nuestras salas durante las vacaciones! \n\n\n\n\n\n\n\n\n\n\n	\n		Compartir esta página en redes sociales\n		FacebookTwitterLinkedIn
URL:https://www.macnconicet.gob.ar/event/desde-este-mes-nuevo-horario-de-verano-en-el-macn/
CATEGORIES:Recorrido
ATTACH;FMTTYPE=image/jpeg:https://www.macnconicet.gob.ar/wp-content/uploads/story-macn-MUSEO-VERANO-web_feed-Museo-feriado.jpg
END:VEVENT
BEGIN:VEVENT
DTSTART;TZID=America/Sao_Paulo:20250303T140000
DTEND;TZID=America/Sao_Paulo:20250303T190000
DTSTAMP:20260419T185727
CREATED:20250303T153113Z
LAST-MODIFIED:20250303T172009Z
UID:12059-1741010400-1741028400@www.macnconicet.gob.ar
SUMMARY:Lunes 3 de marzo - Museo cerrado
DESCRIPTION:Por temas relacionados a las tormentas que ocasionaron caídas de árboles y problemas generalizados que aún no hemos podido solucionar\, el Museo permanecerá cerrado el día de hoy. \n\n\n\nLes pedimos disculpas y los esperamos mañana martes de 14 a 19hs. \n\n\n\n\n\n\n\n\n\n\n	\n		Compartir esta página en redes sociales\n		FacebookTwitterLinkedIn
URL:https://www.macnconicet.gob.ar/event/lunes-3-de-marzo-museo-cerrado/
ATTACH;FMTTYPE=image/jpeg:https://www.macnconicet.gob.ar/wp-content/uploads/lunes-3-de-marzo-museo-cerrado.jpeg
END:VEVENT
END:VCALENDAR