



BEGIN:VCALENDAR
VERSION:2.0
PRODID:-//Museo de Ciencias Naturales - ECPv6.15.20//NONSGML v1.0//EN
CALSCALE:GREGORIAN
METHOD:PUBLISH
X-WR-CALNAME:Museo de Ciencias Naturales
X-ORIGINAL-URL:https://www.macnconicet.gob.ar
X-WR-CALDESC:Eventos para Museo de Ciencias Naturales
REFRESH-INTERVAL;VALUE=DURATION:PT1H
X-Robots-Tag:noindex
X-PUBLISHED-TTL:PT1H
BEGIN:VTIMEZONE
TZID:America/Sao_Paulo
BEGIN:STANDARD
TZOFFSETFROM:-0300
TZOFFSETTO:-0300
TZNAME:-03
DTSTART:20210101T000000
END:STANDARD
END:VTIMEZONE
BEGIN:VEVENT
DTSTART;TZID=America/Sao_Paulo:20220916T050000
DTEND;TZID=America/Sao_Paulo:20221003T140000
DTSTAMP:20260420T202325
CREATED:20220916T125747Z
LAST-MODIFIED:20220916T130251Z
UID:8889-1663304400-1664805600@www.macnconicet.gob.ar
SUMMARY:Curso de formación de guías educativos
DESCRIPTION:Desde el jueves 22 de septiembre al 3 de octubre de 2022 se desarrollará\, en el Museo Argentino de Ciencias Naturales “Bernardino Rivadavia”\, el “Curso de Formación de Guías Educativos – 2022”\, con el objeto de seleccionar a graduados y/o estudiantes avanzados\, para desempeñarse como guías de grupos escolares y de público general.\n…………………………………………………………………. \nCurso de formación de guías educativos\nInscripción  a partir del 19 de septiembre.\nInformación: educacion@macn.gov.ar \n…………………………………………………………………. \nDel 22 de setiembre al 3 de octubre se llevarán a cabo las clases teóricas de los contenidos expuestos en las salas.\nDel 4 al 5 se llevarán a cabo la evaluación correspondiente.  \nRequisitos indispensables para la inscripción y certificación:\n•  Ser graduado o estudiante (de los últimos años) de las carreras de Biología\, Ciencias Naturales\, Paleontología o afines.\n•  Cumplir con una asistencia del 80% y aprobar la evaluación con una nota mínima de 6 (seis) puntos. \n Inscripción: Lugar y fecha: Oficina de Personal del MACN.\nAv. Ángel Gallardo 470\, Ciudad de Buenos Aires. Desde el lunes 19 de septiembre (Previamente comunicarse por mail con el Sr. Ricardo Gutiérrez). \nContacto: Sr. Ricardo Gutiérrez. Teléfono: 4982-5243\, interno 171 – rigutierrez@macn.gov.ar \nDocumentación a presentar:\n• Curriculum Vitae actualizado. En caso de ser estudiante\, certificado analítico de las materias aprobadas y en caso de ser graduado fotocopia del título.
URL:https://www.macnconicet.gob.ar/event/curso-de-formacion-de-guias-educativos-2/
LOCATION:Museo Argentino de Ciencias Naturales “Bernardino Rivadavia”\, Av. Ángel Gallardo 490\, Ciudad Autonoma de Buenos Aires\, Buenos Aires\, 1605\, Argentina
CATEGORIES:Cursos
ATTACH;FMTTYPE=image/jpeg:https://www.macnconicet.gob.ar/wp-content/uploads/post_curso-formación-guias-sept2022_post.jpg
END:VEVENT
BEGIN:VEVENT
DTSTART;TZID=America/Sao_Paulo:20220802T050000
DTEND;TZID=America/Sao_Paulo:20220826T140000
DTSTAMP:20260420T202325
CREATED:20220802T224744Z
LAST-MODIFIED:20220803T162831Z
UID:8812-1659416400-1661522400@www.macnconicet.gob.ar
SUMMARY:TALLER "EL ESPÉCIMEN EXTENDIDO. TAXIDERMIAS\, TEJIDOS Y DATOS EN EL SIGLO XXI”
DESCRIPTION:“El espécimen extendido. Taxidermias\, tejidos y Datos en el siglo XXI”\nEl Taller estará a cargo de los técnicos Curadores de las Divisiones de Ornitología\, Mastozoología\, de la Colección Nacional de Tejidos Ultracongelados y la técnica del Bioterio del Museo Argentino de Ciencias Naturales “Bernardino Rivadavia”.\n💻 Modalidad: virtual por plataforma de zoom del MACN. Cinco encuentros semanales\, de 4 horas cada uno.\n⏱Día y horario:  Lunes a Viernes de 13 a 17hs\n🗓️ Fecha de inicio y finalización: Lunes 22 al viernes 26 de Agosto del 2022. \nEl Taller estará a cargo de los técnicos Curadores de las Divisiones de Ornitología\, Mastozoología\, de la Colección Nacional de Tejidos Ultracongelados y la técnica del Bioterio del Museo Argentino de Ciencias Naturales “Bernardino Rivadavia”. \n\nDirigido a: Investigadores\, técnicos\, trabajadores de museos\, estudiantes de Ciencias biológicas\, y al público general. \n\nAcreditación: se extenderán certificados de asistencia avalados por el MACN.\nCosto de inscripción\nArgentina: AR$ 10.000.-\nExtranjeros: U$D 100.- \nCupos: Cupos limitados.\n📩Consultas: educursos.macn@gmail.com \n➡️ Preinscripción a través del siguiente link: https://forms.gle/mkHZ8xy7Rg3B12Wx7 \nA los pre-inscriptos se les enviará un mail con los datos detallados de cómo confirmar la vacante. \n\n\nInstructores\nMaría Laura Barone\nTécnica Curadora de la Colección Nacional de Tejidos Ultracongelados del MACN (Profesional de Apoyo de CONICET)\nEmail: mlblaura@gmail.com\nYolanda Davies\nTécnica Curadora de la Colección Nacional de Ornitología del MACN (CPA CONICET)\nEmail: ydavies631@hotmail.com\nMercedes Imsen\nTécnica del Bioterio del MACN (CPA CONICET)\nEmail: merimsen@hotmail.com\nSergio Lucero\nTécnico Curador de la Colección Nacional de Mastozoología del MACN (CPA CONICET)\nEmail: serglucero@yahoo.com\nMatías Olmos\nTécnico Curador de la Colección Nacional de Herpetología del MACN (CPA CONICET)\nEmail: mati.biologia@gmail.com\n\nFundamentación:\nDesde sus inicios\, la Institución ha tenido como meta la creación\, conservación y mantenimiento a largo plazo de sus colecciones. Esto se ha realizado a través de incentivos y apoyando la formación continua del personal técnico a cargo de las colecciones. La Institución ha logrado conformar un equipo de profesionales especializados en tareas específicas tanto de preparación de especímenes\,como en el manejo y cuidado de las colecciones. Con el uso de nuevas técnicas de estudio de los especímenes\, a aumentado el volumen de datos e información asociados a los mismos; por lo que la información debe mantenerse asociada a los ejemplares y curada de forma apropiada.\nLa posibilidad de acceder a cursos y talleres\, junto a la disponibilidad de recursos económicos para su realización (tanto como las partidas presupuestarias anuales para la compra de insumos específicos de conservación) han sido esenciales para poder implementar las continuas mejoras en las condiciones de preparación y conservación de todas las colecciones del museo. La planificación estratégica y el acceso a los recursos y materiales adecuados para la preparación y conservación\, permiten que el museo cumpla con estándares internacionales.\nDinámica de los encuentros:\nCada encuentro estará a cargo de los docentes\, quienes compartirán sus experiencias en el ámbito de la colección o colecciones en las que se desempeña. Se mostrarán paso a paso como se taxidermiza un espécimen para estudio. Se ofrecerá bibliografía mediante una carpeta compartida a través de Google Drive\, junto con guías de lectura para continuar un intercambio con los alumnos a lo largo del taller.\nPrograma\nDía 1\nIntroducción. Historia de las preparaciones científicas de aves y mamíferos. Tipos de preparación utilizados en la actualidad. El espécimen y los datos asociados: “El ejemplar extendido”. Registro de datos y planillas. Toma de muestras para ADN. Tipos de etiqueta. Importancia del etiquetado y fotografía de especímenes.\nDía 2\nCaracterísticas de la preparación. de pieles de estudio y elementos asociados a la preparación de aves y mamíferos: Método de piel rellena\, método de piel extendida y método de piel curtida. Metodología y paso a paso de la preparación de pieles de estudios de aves. Metodología y paso a paso de la preparación de pieles de estudios de mamíferos.\nDía 3\nCaracterísticas de la preparación. de esqueletos de estudio. Tipos de técnicas para la preparación de esqueletos: Preparación con derméstidos\, preparación por ebullición y preparación por maceración. Montaje y gestión de un dermestario. Preparación previa de especímenes para el dermestario. Cuarentena y limpieza final post-dermestario.\nDía 4\nCaracterísticas de la fijación de especímenes en fluído. Tipos de líquidos preservantes. Características de los diferentes frascos y contenedores utilizados en colecciones de especímenes en fluído. Pasos previos a la preparación (fijación) de especímenes en fluido. Criterios y protocolos posteriores a la fijación de los especímenes en fluído.\nDía 5\nNociones generales de guarda de especímenes. Cierre y ronda de consultas finales.\n\n> Descargar PDF
URL:https://www.macnconicet.gob.ar/event/taller-agosto-2022/
LOCATION:Online
CATEGORIES:Cursos,Cursos de divulgación científica y formación profesional,Taller
ATTACH;FMTTYPE=image/jpeg:https://www.macnconicet.gob.ar/wp-content/uploads/post-curso_macn-especimen-extendido-02.jpg
END:VEVENT
BEGIN:VEVENT
DTSTART;TZID=America/Sao_Paulo:20220629T050000
DTEND;TZID=America/Sao_Paulo:20220831T140000
DTSTAMP:20260420T202325
CREATED:20220629T202359Z
LAST-MODIFIED:20220708T135409Z
UID:8724-1656478800-1661954400@www.macnconicet.gob.ar
SUMMARY:El Gran Predador de los Mares Devónicos
DESCRIPTION:¿Conocés al Gran Predador de los Mares Devónicos?\n¡Un pez acorazado de más de 8 metros!\nUna reconstrucción de la coraza ósea que cubría su cráneo se exhibe en la Sala de “Tiburones\, rayas y quimeras”\, a partir del 29 de junio.  \nEsta pieza nos permite imaginar cómo eran los mares hacia el final del devónico (hace 380 a 360 millones de años).\nDunkleosteus terrelli  es anterior a la aparición de los dinosaurios\, y es uno de los últimos representantes del grupo de los primeros peces\ncon mandíbula: los placodermos.  \n  \n#Paleontologia\n@macn.pv
URL:https://www.macnconicet.gob.ar/event/8724/
LOCATION:Museo Argentino de Ciencias Naturales “Bernardino Rivadavia”\, Av. Ángel Gallardo 490\, Ciudad Autonoma de Buenos Aires\, Buenos Aires\, 1605\, Argentina
CATEGORIES:Muestra
ATTACH;FMTTYPE=image/jpeg:https://www.macnconicet.gob.ar/wp-content/uploads/story_grandepredador_facebook_publicacion-copy.jpg
END:VEVENT
BEGIN:VEVENT
DTSTART;TZID=America/Sao_Paulo:20220610T050000
DTEND;TZID=America/Sao_Paulo:20220901T140000
DTSTAMP:20260420T202325
CREATED:20220610T200154Z
LAST-MODIFIED:20220802T221453Z
UID:8660-1654837200-1662040800@www.macnconicet.gob.ar
SUMMARY:CATALOGO 2021 NUEVAS ESPECIES
DESCRIPTION:Nuevas especies descriptas por investigadores del MACN 2021\nDurante el año 2021\, como en el anterior\, el trabajo de la comunidad científica se vio limitado de múltiples formas por la pandemia del COVID-19. La Argentina continuó bajo restricciones que variaron su alcance a lo largo del año\, lográndose una apertura parcial recién en el último trimestre. \nSe continuó\, sin embargo\, con tareas en modalidad remota que permitieron\, gracias a la experiencia adquirida durante 2020 y al esfuerzo y pasión de los actores\, continuar produciendo publicaciones científicas. En el caso de las disciplinas sistemáticas y taxonómicas\, que son el objeto de esta recopilación\, los científicos y científicas del Museo Argentino de Ciencias Naturales “Bernardino Rivadavia” fueron capaces de mantener una continuidad en la producción de artículos. \nLos reportes anuales que damos a conocer sobre los nuevos taxones descriptos por el personal de nuestro museo\, muestran que las cifras se volvieron a incrementar con respecto a los años 2019 y 2020. En 40 publicaciones científicas\, que aparecieron entre diciembre de 2020 y noviembre de 2021\, se acuñaron 92 nuevos nombres taxonómicos:\n65 especies\, 23 géneros\, dos icnogéneros y dos icnoespecies; estas dos últimas categorías corresponden a trazas fósiles\, como rastros\, cuevas\, huellas o nidos. La diversidad comprendida en estos trabajos es nuevamente muy significativa\, abarcando organismos vivientes de distintos grupos (mamíferos\, anfibios\, insectos\, arácnidos e invertebrados marinos\, como equinodermos y moluscos)\, así como también extintos (dinosaurios y aves\, otros reptiles\, mamíferos\, artrópodos\, helechos y coníferas). Las regiones de donde provinieron los hallazgos incluyen ambientes terrestres y marinos de América del Sur (Argentina\, Brasil\, Chile\, Venezuela) y regiones tan alejadas como Reino Unido\, Marruecos\, Omán\, India\, Myanmar y Australia. Como es habitual\, muchas de las investigaciones son resultado de colaboraciones con colegas de otras instituciones de Argentina y del exterior. \nEsperamos que se valore este compilado de los fascinantes organismos dados a conocer en este período por los y las integrantes de nuestra institución\, quienes continuaron realizando sus aportes pese al desfavorable contexto global\, intentando mantener viva una tradición que pronto cumplirá 210 años y que nos posiciona como referentes en el país y la región. \n  \n \n  \n  \n  \nDG: María Wright\nCompilación: Cristian Grismado y Martín Ramírez\nContacto: prensa@macn.gov.ar
URL:https://www.macnconicet.gob.ar/event/catalogo-2021-nuevas-especies/
ATTACH;FMTTYPE=image/jpeg:https://www.macnconicet.gob.ar/wp-content/uploads/grafica_catalogonuevasespecies.jpg
END:VEVENT
END:VCALENDAR